BEGIN:VCALENDAR
VERSION:2.0
PRODID:-//Accurate Swim Timing - ECPv6.15.20//NONSGML v1.0//EN
CALSCALE:GREGORIAN
METHOD:PUBLISH
X-ORIGINAL-URL:https://accurateswimtiming.com
X-WR-CALDESC:Events for Accurate Swim Timing
REFRESH-INTERVAL;VALUE=DURATION:PT1H
X-Robots-Tag:noindex
X-PUBLISHED-TTL:PT1H
BEGIN:VTIMEZONE
TZID:America/New_York
BEGIN:DAYLIGHT
TZOFFSETFROM:-0500
TZOFFSETTO:-0400
TZNAME:EDT
DTSTART:20250309T070000
END:DAYLIGHT
BEGIN:STANDARD
TZOFFSETFROM:-0400
TZOFFSETTO:-0500
TZNAME:EST
DTSTART:20251102T060000
END:STANDARD
BEGIN:DAYLIGHT
TZOFFSETFROM:-0500
TZOFFSETTO:-0400
TZNAME:EDT
DTSTART:20260308T070000
END:DAYLIGHT
BEGIN:STANDARD
TZOFFSETFROM:-0400
TZOFFSETTO:-0500
TZNAME:EST
DTSTART:20261101T060000
END:STANDARD
BEGIN:DAYLIGHT
TZOFFSETFROM:-0500
TZOFFSETTO:-0400
TZNAME:EDT
DTSTART:20270314T070000
END:DAYLIGHT
BEGIN:STANDARD
TZOFFSETFROM:-0400
TZOFFSETTO:-0500
TZNAME:EST
DTSTART:20271107T060000
END:STANDARD
END:VTIMEZONE
BEGIN:VEVENT
DTSTART;VALUE=DATE:20260418
DTEND;VALUE=DATE:20260419
DTSTAMP:20260423T100037
CREATED:20260317T010941Z
LAST-MODIFIED:20260418T212459Z
UID:5750-1776470400-1776556799@accurateswimtiming.com
SUMMARY:BMAC Spring Challenge
DESCRIPTION:Event Information\n			\n			\n				\n				\n				\n				\n			\n				\n				\n				\n				\n				\n				\n				\n				\n				\n				\n				Pre Meet Info\n			\n				\n				\n				\n				\n				Meet Packet \nTeam Entries \nPsych Sheet \nEstimated Timeline 4-16 \n			\n			\n				\n				\n				\n				\n				\n				\n				\n				\n				\n				Heat Sheets\n			\n				\n				\n				\n				\n				Satuday AM \nSatuday PM \n			\n			\n				\n				\n				\n				\n				\n				\n				\n				\n				\n				Results\n			\n				\n				\n				\n				\n				Morning Session \nAfternoon Session \nHigh Point \nTeam Scores \nMeet Results Zip (Coaches)
URL:https://accurateswimtiming.com/event/bmac-spring-challenge/
LOCATION:Rowdy Gaines Olympic Pool\, 210 Cypress Gardens Blvd\,\, Winter Haven\, FL\, 33880\, United States
END:VEVENT
BEGIN:VEVENT
DTSTART;VALUE=DATE:20260418
DTEND;VALUE=DATE:20260420
DTSTAMP:20260423T100037
CREATED:20260415T010357Z
LAST-MODIFIED:20260421T003429Z
UID:5798-1776470400-1776643199@accurateswimtiming.com
SUMMARY:The Villages Senior Games Swimming
DESCRIPTION:Event Information\n			\n			\n				\n				\n				\n				\n			\n				\n				\n				\n				\n				\n				\n				\n				\n				\n				\n				Pre Meet Info\n			\n				\n				\n				\n				\n				Team Roster \nPsych Sheet \nPsych Sheet V02 \n			\n			\n				\n				\n				\n				\n				\n				\n				\n				\n				\n				Heat Sheets\n			\n				\n				\n				\n				\n				Saturday Heat Sheet \nSunday Heat Sheet \n			\n			\n				\n				\n				\n				\n				\n				\n				\n				\n				\n				Results\n			\n				\n				\n				\n				\n				Final Results
URL:https://accurateswimtiming.com/event/the-villages-senior-games-swimming/
LOCATION:Villages Charter High School\, 2210 Dr Randy McDaniel Way\, Middleton\, FL\, 34726\, United States
END:VEVENT
END:VCALENDAR