BEGIN:VCALENDAR
VERSION:2.0
PRODID:-//Accurate Swim Timing - ECPv6.15.20//NONSGML v1.0//EN
CALSCALE:GREGORIAN
METHOD:PUBLISH
X-WR-CALNAME:Accurate Swim Timing
X-ORIGINAL-URL:https://accurateswimtiming.com
X-WR-CALDESC:Events for Accurate Swim Timing
REFRESH-INTERVAL;VALUE=DURATION:PT1H
X-Robots-Tag:noindex
X-PUBLISHED-TTL:PT1H
BEGIN:VTIMEZONE
TZID:America/New_York
BEGIN:DAYLIGHT
TZOFFSETFROM:-0500
TZOFFSETTO:-0400
TZNAME:EDT
DTSTART:20250309T070000
END:DAYLIGHT
BEGIN:STANDARD
TZOFFSETFROM:-0400
TZOFFSETTO:-0500
TZNAME:EST
DTSTART:20251102T060000
END:STANDARD
BEGIN:DAYLIGHT
TZOFFSETFROM:-0500
TZOFFSETTO:-0400
TZNAME:EDT
DTSTART:20260308T070000
END:DAYLIGHT
BEGIN:STANDARD
TZOFFSETFROM:-0400
TZOFFSETTO:-0500
TZNAME:EST
DTSTART:20261101T060000
END:STANDARD
BEGIN:DAYLIGHT
TZOFFSETFROM:-0500
TZOFFSETTO:-0400
TZNAME:EDT
DTSTART:20270314T070000
END:DAYLIGHT
BEGIN:STANDARD
TZOFFSETFROM:-0400
TZOFFSETTO:-0500
TZNAME:EST
DTSTART:20271107T060000
END:STANDARD
END:VTIMEZONE
BEGIN:VEVENT
DTSTART;VALUE=DATE:20260425
DTEND;VALUE=DATE:20260427
DTSTAMP:20260421T135320
CREATED:20260317T010235Z
LAST-MODIFIED:20260421T013250Z
UID:5747-1777075200-1777247999@accurateswimtiming.com
SUMMARY:Matt & Karen Hohne Memorial Invitational
DESCRIPTION:Event Information\n			\n			\n				\n				\n				\n				\n			\n				\n				\n				\n				\n				\n				\n				\n				\n				\n				\n				Pre Meet Info\n			\n				\n				\n				\n				\n				Meet Letter \nEntry Report \nPsych Sheet \nEstimated Timeline \n			\n			\n				\n				\n				\n				\n				\n				\n				\n				\n				\n				Heat Sheets\n			\n				\n				\n				\n				\n				\n			\n			\n				\n				\n				\n				\n				\n				\n				\n				\n				\n				Results
URL:https://accurateswimtiming.com/event/matt-karen-hohne-memorial-invitational/
LOCATION:National Training Center\, 2150 Legends Way\, Clermont\, FL\, 34711\, United States
END:VEVENT
END:VCALENDAR